BEGIN:VCALENDAR
VERSION:2.0
PRODID:-//wp-events-plugin.com//7.2.3.1//EN
BEGIN:VEVENT
UID:4@breathtakinguganda.com
DTSTART:20260401T210000Z
DTEND:20260401T210000Z
DTSTAMP:20260228T073713Z
URL:https://breathtakinguganda.com/events/breathtaking-easter-holiday-in-z
 anzibar/
SUMMARY:Breathtaking Easter Holiday in Zanzibar April 2026
DESCRIPTION:\nBreathtaking Easter Holiday in Zanzibar\nDates: Thursday\, 2n
 d April – Monday\, 6th April 2026\n\nRates:\n\n 	Per Person: UGX 4\,500\
 ,000 / $1\,250\n 	Per Couple: UGX 8\,400\,000 / $2\,330\n\n\n\n\nPackage I
 ncludes\n\n 	Return air tickets &amp\; Zanzibar mandatory tourist insuranc
 e\n 	4 nights\, 5 days accommodation at Zanoceanic Resort Hotel (Half boar
 d basis)\n 	Mnemba Island – swim with dolphins\n 	Nungwi Aquarium – sw
 im with turtles\n 	Sunset dhow cruise at Kendwa Rocks Beach\n 	Stone Town 
 cultural tour\n 	Spice experience\n\n\n\n\nBooking\n\n 	Secure your slot w
 ith only $200 deposit\n 	Limited availability: 20 slots only\n\n\n\n\nCont
 act\n\n 	Call/WhatsApp: +256 776 222 262 (Isaiah Jobs)\n 	Email: breathtak
 inguganda1@gmail.com\n 	Website: www.breathtakinguganda.com\n\n
ATTACH;FMTTYPE=image/jpeg:https://breathtakinguganda.com/wp-content/upload
 s/2026/02/99900.jpeg
LOCATION:Zanzibar\, Zanzibar\, Zanzibar\, Zanzibar\, Tanzania
X-APPLE-STRUCTURED-LOCATION;VALUE=URI;X-ADDRESS=Zanzibar\, Zanzibar\, Zanzi
 bar\, Tanzania;X-APPLE-RADIUS=100;X-TITLE=Zanzibar:geo:0,0
END:VEVENT
END:VCALENDAR