BEGIN:VCALENDAR
VERSION:2.0
PRODID:-//wp-events-plugin.com//7.2.3.1//EN
BEGIN:VEVENT
UID:2@breathtakinguganda.com
DTSTART;VALUE=DATE:20240822
DTEND;VALUE=DATE:20240828
DTSTAMP:20240523T165819Z
URL:https://breathtakinguganda.com/events/the-most-luxurious-breathtaking-
 uganda-holiday-maldives-october-2024/
SUMMARY:The most luxurious Breathtaking Uganda holiday Maldives October 202
 4
DESCRIPTION:The most luxurious Breathtaking Uganda holiday Maldives October
  2024\nPrice $3500 per person sharing\n\nTue 22nd to Sun 27th Oct\, 2024\n
 \nInclusions\nReturn Air tickets\nFive nights and six days holiday in Mald
 ives\nOver water villa luxury accommodation bed and breakfast\nClear water
  canoeing/kayaking\nUnderwater snorkeling\nIsland hopping\nPara sailing\nL
 ocal island tours and beach party\n\nFor more details contact\nIsaiah Jobs
  on +256776222262\nSteve Mayanja on 0752690915\nwww.breathtakinguganda.com
  We are located at Grand Imperial Shopping Mall Suite 25
ATTACH;FMTTYPE=image/jpeg:https://breathtakinguganda.com/wp-content/upload
 s/2024/05/Maldives.jpg
LOCATION:Maldives\, Maldives\, Maldives\, Maldives\, Uganda
X-APPLE-STRUCTURED-LOCATION;VALUE=URI;X-ADDRESS=Maldives\, Maldives\, Maldi
 ves\, Uganda;X-APPLE-RADIUS=100;X-TITLE=Maldives:geo:0,0
END:VEVENT
END:VCALENDAR